BEGIN:VCALENDAR
VERSION:2.0
PRODID:-//Yavir School of Ukrainian Dance - ECPv6.15.20//NONSGML v1.0//EN
CALSCALE:GREGORIAN
METHOD:PUBLISH
X-WR-CALNAME:Yavir School of Ukrainian Dance
X-ORIGINAL-URL:https://yavir.ca
X-WR-CALDESC:Events for Yavir School of Ukrainian Dance
REFRESH-INTERVAL;VALUE=DURATION:PT1H
X-Robots-Tag:noindex
X-PUBLISHED-TTL:PT1H
BEGIN:VTIMEZONE
TZID:America/Toronto
BEGIN:DAYLIGHT
TZOFFSETFROM:-0500
TZOFFSETTO:-0400
TZNAME:EDT
DTSTART:20220313T070000
END:DAYLIGHT
BEGIN:STANDARD
TZOFFSETFROM:-0400
TZOFFSETTO:-0500
TZNAME:EST
DTSTART:20221106T060000
END:STANDARD
BEGIN:DAYLIGHT
TZOFFSETFROM:-0500
TZOFFSETTO:-0400
TZNAME:EDT
DTSTART:20230312T070000
END:DAYLIGHT
BEGIN:STANDARD
TZOFFSETFROM:-0400
TZOFFSETTO:-0500
TZNAME:EST
DTSTART:20231105T060000
END:STANDARD
BEGIN:DAYLIGHT
TZOFFSETFROM:-0500
TZOFFSETTO:-0400
TZNAME:EDT
DTSTART:20240310T070000
END:DAYLIGHT
BEGIN:STANDARD
TZOFFSETFROM:-0400
TZOFFSETTO:-0500
TZNAME:EST
DTSTART:20241103T060000
END:STANDARD
END:VTIMEZONE
BEGIN:VEVENT
DTSTART;VALUE=DATE:20230611
DTEND;VALUE=DATE:20230612
DTSTAMP:20260424T162838
CREATED:20230613T155317Z
LAST-MODIFIED:20230613T172036Z
UID:7962-1686441600-1686527999@yavir.ca
SUMMARY:Guelph and District Multicultural Festival
DESCRIPTION:Yavir Ukrainian Dance Ensemble is thrilled to be a part of the vibrant 37th Annual Guelph and District Multicultural Festival this year! \nJoin us on this incredible journey as we celebrate diversity and unity through the language of dance. Get ready to witness a fusion of cultures\, rhythms\, and mesmerizing moves that will leave you spellbound! \nWe extend our heartfelt gratitude to the organizers of the Multicultural Festival for providing us with this incredible platform to share our passion for dance and culture. We are deeply honored to be a part of this remarkable event. \nMark your calendars for June 11\, 2023 as we take the stage at Riverside Park\, Guelph. Join US!!!
URL:https://yavir.ca/event/guelph-and-district-multicultural-festival/
LOCATION:Riverside Park\, 123 Woolwich Street\, Guelph\, Ontario\, N1H 3V1\, Canada
CATEGORIES:Festival
ATTACH;FMTTYPE=image/jpeg:https://yavir.ca/wp-content/uploads/2023/06/gdmf.jpg
END:VEVENT
END:VCALENDAR